Package: findIPs Version: 1.2.0 Command: rm -rf findIPs.buildbin-libdir && mkdir findIPs.buildbin-libdir && /Users/biocbuild/BBS/utils/build-universal.sh findIPs_1.2.0.tar.gz /Library/Frameworks/R.framework/Resources/bin/R findIPs.buildbin-libdir StartedAt: 2025-04-02 14:21:11 -0400 (Wed, 02 Apr 2025) EndedAt: 2025-04-02 14:21:37 -0400 (Wed, 02 Apr 2025) EllapsedTime: 26.0 seconds RetCode: 0 Status: OK PackageFile: findIPs_1.2.0.tgz PackageFileSize: 2.139 MiB