Package: fgga Version: 1.14.0 Command: /home/biocbuild/R/R/bin/R CMD build --keep-empty-dirs --no-resave-data fgga StartedAt: 2025-03-31 23:29:55 -0000 (Mon, 31 Mar 2025) EndedAt: 2025-03-31 23:31:04 -0000 (Mon, 31 Mar 2025) EllapsedTime: 69.1 seconds RetCode: 0 Status: OK PackageFile: fgga_1.14.0.tar.gz PackageFileSize: 1.375 MiB