Package: fenr Version: 1.4.2 Command: rm -rf fenr.buildbin-libdir && mkdir fenr.buildbin-libdir && F:\biocbuild\bbs-3.20-bioc\R\bin\R.exe CMD INSTALL --build --library=fenr.buildbin-libdir fenr_1.4.2.tar.gz StartedAt: 2025-04-01 08:11:49 -0400 (Tue, 01 Apr 2025) EndedAt: 2025-04-01 08:12:02 -0400 (Tue, 01 Apr 2025) EllapsedTime: 12.8 seconds RetCode: 0 Status: OK PackageFile: fenr_1.4.2.zip PackageFileSize: 1.819 MiB