Package: fenr Version: 1.4.2 Command: /Library/Frameworks/R.framework/Resources/bin/R CMD check --install=check:fenr.install-out.txt --library=/Library/Frameworks/R.framework/Resources/library --no-vignettes --timings fenr_1.4.2.tar.gz StartedAt: 2025-04-01 19:10:28 -0400 (Tue, 01 Apr 2025) EndedAt: 2025-04-01 19:14:03 -0400 (Tue, 01 Apr 2025) EllapsedTime: 215.7 seconds RetCode: 0 Status: OK CheckDir: fenr.Rcheck Warnings: 0