Package: fenr Version: 1.4.2 Command: /Library/Frameworks/R.framework/Resources/bin/R CMD build --keep-empty-dirs --no-resave-data fenr StartedAt: 2025-03-31 23:29:02 -0400 (Mon, 31 Mar 2025) EndedAt: 2025-03-31 23:29:35 -0400 (Mon, 31 Mar 2025) EllapsedTime: 33.0 seconds RetCode: 0 Status: OK PackageFile: fenr_1.4.2.tar.gz PackageFileSize: 1.996 MiB