Package: fedup Version: 1.14.0 Command: /home/biocbuild/R/R/bin/R CMD INSTALL fedup StartedAt: 2025-03-31 21:07:14 -0000 (Mon, 31 Mar 2025) EndedAt: 2025-03-31 21:07:24 -0000 (Mon, 31 Mar 2025) EllapsedTime: 10.0 seconds RetCode: 0 Status: OK