Package: fedup Version: 1.14.0 Command: /home/biocbuild/R/R/bin/R CMD build --keep-empty-dirs --no-resave-data fedup StartedAt: 2025-03-31 23:29:03 -0000 (Mon, 31 Mar 2025) EndedAt: 2025-03-31 23:31:12 -0000 (Mon, 31 Mar 2025) EllapsedTime: 129.1 seconds RetCode: 0 Status: OK PackageFile: fedup_1.14.0.tar.gz PackageFileSize: 3.814 MiB