Package: fedup Version: 1.14.0 Command: /Library/Frameworks/R.framework/Resources/bin/R CMD build --keep-empty-dirs --no-resave-data fedup StartedAt: 2025-03-31 18:43:19 -0400 (Mon, 31 Mar 2025) EndedAt: 2025-03-31 18:46:14 -0400 (Mon, 31 Mar 2025) EllapsedTime: 175.1 seconds RetCode: 0 Status: OK PackageFile: fedup_1.14.0.tar.gz PackageFileSize: 4.703 MiB