Package: fedup Version: 1.14.0 Command: rm -rf fedup.buildbin-libdir && mkdir fedup.buildbin-libdir && /Users/biocbuild/BBS/utils/build-universal.sh fedup_1.14.0.tar.gz /Library/Frameworks/R.framework/Resources/bin/R fedup.buildbin-libdir StartedAt: 2025-04-01 11:52:35 -0400 (Tue, 01 Apr 2025) EndedAt: 2025-04-01 11:52:56 -0400 (Tue, 01 Apr 2025) EllapsedTime: 20.5 seconds RetCode: 0 Status: OK PackageFile: fedup_1.14.0.tgz PackageFileSize: 4.437 MiB