Package: fedup Version: 1.14.0 Command: /Library/Frameworks/R.framework/Resources/bin/R CMD check --install=check:fedup.install-out.txt --library=/Library/Frameworks/R.framework/Resources/library --no-vignettes --timings fedup_1.14.0.tar.gz StartedAt: 2025-04-01 19:10:16 -0400 (Tue, 01 Apr 2025) EndedAt: 2025-04-01 19:14:06 -0400 (Tue, 01 Apr 2025) EllapsedTime: 229.4 seconds RetCode: 0 Status: OK CheckDir: fedup.Rcheck Warnings: 0