Package: fdrame Version: 1.78.0 Command: /home/biocbuild/R/R/bin/R CMD INSTALL fdrame StartedAt: 2025-03-31 20:11:09 -0000 (Mon, 31 Mar 2025) EndedAt: 2025-03-31 20:11:25 -0000 (Mon, 31 Mar 2025) EllapsedTime: 15.5 seconds RetCode: 0 Status: OK