Package: fdrame Version: 1.78.0 Command: /home/biocbuild/R/R/bin/R CMD check --install=check:fdrame.install-out.txt --library=/home/biocbuild/R/R/site-library --no-vignettes --timings fdrame_1.78.0.tar.gz StartedAt: 2025-04-01 06:28:51 -0000 (Tue, 01 Apr 2025) EndedAt: 2025-04-01 06:29:10 -0000 (Tue, 01 Apr 2025) EllapsedTime: 19.0 seconds RetCode: 1 Status: ERROR CheckDir: fdrame.Rcheck Warnings: NA