Package: fdrame Version: 1.78.0 Command: /home/biocbuild/R/R/bin/R CMD build --keep-empty-dirs --no-resave-data fdrame StartedAt: 2025-03-31 23:28:56 -0000 (Mon, 31 Mar 2025) EndedAt: 2025-03-31 23:29:02 -0000 (Mon, 31 Mar 2025) EllapsedTime: 6.0 seconds RetCode: 0 Status: OK PackageFile: fdrame_1.78.0.tar.gz PackageFileSize: 962.9 KiB