Package: fdrame Version: 1.78.0 Command: rm -rf fdrame.buildbin-libdir && mkdir fdrame.buildbin-libdir && /Users/biocbuild/BBS/utils/build-universal.sh fdrame_1.78.0.tar.gz /Library/Frameworks/R.framework/Resources/bin/R fdrame.buildbin-libdir StartedAt: 2024-11-20 04:26:42 -0500 (Wed, 20 Nov 2024) EndedAt: 2024-11-20 04:26:53 -0500 (Wed, 20 Nov 2024) EllapsedTime: 11.5 seconds RetCode: 0 Status: OK PackageFile: fdrame_1.78.0.tgz PackageFileSize: 1.002 MiB