Package: fdrame Version: 1.78.0 Command: /home/biocbuild/R/R/bin/R CMD build --keep-empty-dirs --no-resave-data fdrame StartedAt: 2024-11-20 00:41:36 -0000 (Wed, 20 Nov 2024) EndedAt: 2024-11-20 00:41:42 -0000 (Wed, 20 Nov 2024) EllapsedTime: 6.0 seconds RetCode: 0 Status: OK PackageFile: fdrame_1.78.0.tar.gz PackageFileSize: 962.1 KiB