Package: fcScan Version: 1.20.0 Command: /home/biocbuild/R/R/bin/R CMD INSTALL fcScan StartedAt: 2025-03-31 20:34:38 -0000 (Mon, 31 Mar 2025) EndedAt: 2025-03-31 20:35:28 -0000 (Mon, 31 Mar 2025) EllapsedTime: 49.6 seconds RetCode: 0 Status: OK