Package: fcScan Version: 1.20.0 Command: /home/biocbuild/R/R/bin/R CMD build --keep-empty-dirs --no-resave-data fcScan StartedAt: 2025-03-31 23:28:51 -0000 (Mon, 31 Mar 2025) EndedAt: 2025-03-31 23:29:55 -0000 (Mon, 31 Mar 2025) EllapsedTime: 64.0 seconds RetCode: 0 Status: OK PackageFile: fcScan_1.20.0.tar.gz PackageFileSize: 268 KiB