Package: fcScan Version: 1.20.0 Command: /Library/Frameworks/R.framework/Resources/bin/R CMD INSTALL fcScan StartedAt: 2025-03-31 15:38:15 -0400 (Mon, 31 Mar 2025) EndedAt: 2025-03-31 15:39:33 -0400 (Mon, 31 Mar 2025) EllapsedTime: 77.8 seconds RetCode: 0 Status: OK