Package: fastseg Version: 1.52.0 Command: /home/biocbuild/R/R/bin/R CMD INSTALL fastseg StartedAt: 2025-03-31 20:24:45 -0000 (Mon, 31 Mar 2025) EndedAt: 2025-03-31 20:25:01 -0000 (Mon, 31 Mar 2025) EllapsedTime: 15.9 seconds RetCode: 0 Status: OK