Package: fastLiquidAssociation Version: 1.42.0 Command: /home/biocbuild/R/R/bin/R CMD check --install=check:fastLiquidAssociation.install-out.txt --library=/home/biocbuild/R/R/site-library --no-vignettes --timings fastLiquidAssociation_1.42.0.tar.gz StartedAt: 2025-04-01 06:26:36 -0000 (Tue, 01 Apr 2025) EndedAt: 2025-04-01 06:30:05 -0000 (Tue, 01 Apr 2025) EllapsedTime: 209.3 seconds RetCode: 0 Status: WARNINGS CheckDir: fastLiquidAssociation.Rcheck Warnings: 1