Package: famat Version: 1.16.0 Command: /Library/Frameworks/R.framework/Resources/bin/R CMD INSTALL famat StartedAt: 2025-03-31 17:22:29 -0400 (Mon, 31 Mar 2025) EndedAt: 2025-03-31 17:23:32 -0400 (Mon, 31 Mar 2025) EllapsedTime: 62.5 seconds RetCode: 0 Status: OK