Package: faers Version: 1.2.0 Command: chmod a+r faers -R && F:\biocbuild\bbs-3.20-bioc\R\bin\R.exe CMD build --keep-empty-dirs --no-resave-data faers StartedAt: 2025-03-31 18:52:25 -0400 (Mon, 31 Mar 2025) EndedAt: 2025-03-31 18:53:20 -0400 (Mon, 31 Mar 2025) EllapsedTime: 54.9 seconds RetCode: 0 Status: OK PackageFile: faers_1.2.0.tar.gz PackageFileSize: 2.889 MiB