Package: faers Version: 1.2.0 Command: /Library/Frameworks/R.framework/Resources/bin/R CMD build --keep-empty-dirs --no-resave-data faers StartedAt: 2025-03-31 23:24:46 -0400 (Mon, 31 Mar 2025) EndedAt: 2025-03-31 23:25:32 -0400 (Mon, 31 Mar 2025) EllapsedTime: 45.7 seconds RetCode: 0 Status: OK PackageFile: faers_1.2.0.tar.gz PackageFileSize: 2.889 MiB