Package: factR Version: 1.8.0 Command: /home/biocbuild/bbs-3.20-bioc/R/bin/R CMD INSTALL factR StartedAt: 2025-03-31 15:24:08 -0400 (Mon, 31 Mar 2025) EndedAt: 2025-03-31 15:24:16 -0400 (Mon, 31 Mar 2025) EllapsedTime: 8.1 seconds RetCode: 0 Status: OK