Package: factR Version: 1.8.0 Command: /home/biocbuild/bbs-3.20-bioc/R/bin/R CMD check --install=check:factR.install-out.txt --library=/home/biocbuild/bbs-3.20-bioc/R/site-library --timings factR_1.8.0.tar.gz StartedAt: 2025-03-31 22:07:46 -0400 (Mon, 31 Mar 2025) EndedAt: 2025-03-31 22:12:12 -0400 (Mon, 31 Mar 2025) EllapsedTime: 266.4 seconds RetCode: 0 Status: OK CheckDir: factR.Rcheck Warnings: 0