Package: factR Version: 1.8.0 Command: /Library/Frameworks/R.framework/Resources/bin/R CMD INSTALL factR StartedAt: 2025-03-31 15:31:53 -0400 (Mon, 31 Mar 2025) EndedAt: 2025-03-31 15:32:14 -0400 (Mon, 31 Mar 2025) EllapsedTime: 21.4 seconds RetCode: 0 Status: OK