Package: factR Version: 1.8.0 Command: /Library/Frameworks/R.framework/Resources/bin/R CMD build --keep-empty-dirs --no-resave-data factR StartedAt: 2025-03-31 18:41:01 -0400 (Mon, 31 Mar 2025) EndedAt: 2025-03-31 18:45:49 -0400 (Mon, 31 Mar 2025) EllapsedTime: 288.3 seconds RetCode: 0 Status: OK PackageFile: factR_1.8.0.tar.gz PackageFileSize: 1.838 MiB