Package: factR Version: 1.8.0 Command: /Library/Frameworks/R.framework/Resources/bin/R CMD INSTALL factR StartedAt: 2025-03-31 15:57:24 -0400 (Mon, 31 Mar 2025) EndedAt: 2025-03-31 15:57:34 -0400 (Mon, 31 Mar 2025) EllapsedTime: 10.2 seconds RetCode: 0 Status: OK