Package: fCI Version: 1.36.0 Command: /Library/Frameworks/R.framework/Resources/bin/R CMD INSTALL fCI StartedAt: 2025-03-31 15:50:54 -0400 (Mon, 31 Mar 2025) EndedAt: 2025-03-31 15:51:07 -0400 (Mon, 31 Mar 2025) EllapsedTime: 12.3 seconds RetCode: 0 Status: OK