Package: fCCAC Version: 1.32.0 Command: /home/biocbuild/R/R/bin/R CMD INSTALL fCCAC StartedAt: 2025-03-31 21:11:47 -0000 (Mon, 31 Mar 2025) EndedAt: 2025-03-31 21:12:34 -0000 (Mon, 31 Mar 2025) EllapsedTime: 46.0 seconds RetCode: 0 Status: OK