Package: fCCAC Version: 1.32.0 Command: /home/biocbuild/R/R/bin/R CMD build --keep-empty-dirs --no-resave-data fCCAC StartedAt: 2025-03-31 23:28:39 -0000 (Mon, 31 Mar 2025) EndedAt: 2025-03-31 23:29:47 -0000 (Mon, 31 Mar 2025) EllapsedTime: 68.0 seconds RetCode: 0 Status: OK PackageFile: fCCAC_1.32.0.tar.gz PackageFileSize: 3.492 MiB