Package: fCCAC Version: 1.32.0 Command: /Library/Frameworks/R.framework/Resources/bin/R CMD INSTALL fCCAC StartedAt: 2025-03-31 18:20:24 -0400 (Mon, 31 Mar 2025) EndedAt: 2025-03-31 18:21:08 -0400 (Mon, 31 Mar 2025) EllapsedTime: 43.3 seconds RetCode: 0 Status: OK