Package: fCCAC Version: 1.32.0 Command: rm -rf fCCAC.buildbin-libdir && mkdir fCCAC.buildbin-libdir && /Users/biocbuild/BBS/utils/build-universal.sh fCCAC_1.32.0.tar.gz /Library/Frameworks/R.framework/Resources/bin/R fCCAC.buildbin-libdir StartedAt: 2025-04-02 14:20:07 -0400 (Wed, 02 Apr 2025) EndedAt: 2025-04-02 14:20:56 -0400 (Wed, 02 Apr 2025) EllapsedTime: 49.1 seconds RetCode: 0 Status: OK PackageFile: fCCAC_1.32.0.tgz PackageFileSize: 3.531 MiB