Package: extraChIPs Version: 1.10.0 Command: /home/biocbuild/R/R/bin/R CMD INSTALL extraChIPs StartedAt: 2025-03-31 20:49:20 -0000 (Mon, 31 Mar 2025) EndedAt: 2025-03-31 20:50:31 -0000 (Mon, 31 Mar 2025) EllapsedTime: 71.2 seconds RetCode: 0 Status: OK