Package: extraChIPs Version: 1.10.0 Command: /home/biocbuild/R/R/bin/R CMD build --keep-empty-dirs --no-resave-data extraChIPs StartedAt: 2025-03-31 23:26:41 -0000 (Mon, 31 Mar 2025) EndedAt: 2025-03-31 23:29:00 -0000 (Mon, 31 Mar 2025) EllapsedTime: 138.1 seconds RetCode: 0 Status: OK PackageFile: extraChIPs_1.10.0.tar.gz PackageFileSize: 3.507 MiB