Package: extraChIPs Version: 1.10.0 Command: /Library/Frameworks/R.framework/Resources/bin/R CMD INSTALL extraChIPs StartedAt: 2025-03-31 16:01:17 -0400 (Mon, 31 Mar 2025) EndedAt: 2025-03-31 16:03:15 -0400 (Mon, 31 Mar 2025) EllapsedTime: 118.8 seconds RetCode: 0 Status: OK