Package: evaluomeR Version: 1.22.0 Command: /Library/Frameworks/R.framework/Resources/bin/R CMD check --install=check:evaluomeR.install-out.txt --library=/Library/Frameworks/R.framework/Resources/library --no-vignettes --timings evaluomeR_1.22.0.tar.gz StartedAt: 2025-04-01 18:48:52 -0400 (Tue, 01 Apr 2025) EndedAt: 2025-04-01 18:54:09 -0400 (Tue, 01 Apr 2025) EllapsedTime: 316.4 seconds RetCode: 0 Status: WARNINGS CheckDir: evaluomeR.Rcheck Warnings: 3