Package: eudysbiome Version: 1.36.0 Command: /home/biocbuild/R/R/bin/R CMD INSTALL eudysbiome StartedAt: 2025-03-31 20:31:42 -0000 (Mon, 31 Mar 2025) EndedAt: 2025-03-31 20:31:57 -0000 (Mon, 31 Mar 2025) EllapsedTime: 15.5 seconds RetCode: 0 Status: OK