Package: eudysbiome Version: 1.36.0 Command: /home/biocbuild/R/R/bin/R CMD build --keep-empty-dirs --no-resave-data eudysbiome StartedAt: 2025-03-31 23:24:31 -0000 (Mon, 31 Mar 2025) EndedAt: 2025-03-31 23:24:53 -0000 (Mon, 31 Mar 2025) EllapsedTime: 22.0 seconds RetCode: 0 Status: OK PackageFile: eudysbiome_1.36.0.tar.gz PackageFileSize: 4.37 MiB