Package: eudysbiome Version: 1.36.0 Command: /Library/Frameworks/R.framework/Resources/bin/R CMD check --install=check:eudysbiome.install-out.txt --library=/Library/Frameworks/R.framework/Resources/library --no-vignettes --timings eudysbiome_1.36.0.tar.gz StartedAt: 2025-04-01 18:48:00 -0400 (Tue, 01 Apr 2025) EndedAt: 2025-04-01 18:49:33 -0400 (Tue, 01 Apr 2025) EllapsedTime: 92.6 seconds RetCode: 0 Status: OK CheckDir: eudysbiome.Rcheck Warnings: 0