Package: esetVis Version: 1.32.0 Command: /home/biocbuild/R/R/bin/R CMD INSTALL esetVis StartedAt: 2025-03-31 20:29:07 -0000 (Mon, 31 Mar 2025) EndedAt: 2025-03-31 20:29:25 -0000 (Mon, 31 Mar 2025) EllapsedTime: 18.6 seconds RetCode: 0 Status: OK