Package: escheR Version: 1.6.0 Command: chmod a+r escheR -R && F:\biocbuild\bbs-3.20-bioc\R\bin\R.exe CMD build --keep-empty-dirs --no-resave-data escheR StartedAt: 2025-03-31 18:49:15 -0400 (Mon, 31 Mar 2025) EndedAt: 2025-03-31 19:05:19 -0400 (Mon, 31 Mar 2025) EllapsedTime: 963.9 seconds RetCode: 0 Status: OK PackageFile: escheR_1.6.0.tar.gz PackageFileSize: 914.7 KiB