Package: escheR Version: 1.6.0 Command: /Library/Frameworks/R.framework/Resources/bin/R CMD INSTALL escheR StartedAt: 2025-03-31 16:23:53 -0400 (Mon, 31 Mar 2025) EndedAt: 2025-03-31 16:24:44 -0400 (Mon, 31 Mar 2025) EllapsedTime: 51.8 seconds RetCode: 0 Status: OK