Package: escape Version: 2.2.4 Command: F:\biocbuild\bbs-3.20-bioc\R\bin\R.exe CMD check --no-multiarch --install=check:escape.install-out.txt --library=F:\biocbuild\bbs-3.20-bioc\R\library --no-vignettes --timings escape_2.2.4.tar.gz StartedAt: 2025-04-01 01:23:32 -0400 (Tue, 01 Apr 2025) EndedAt: 2025-04-01 02:03:32 -0400 (Tue, 01 Apr 2025) EllapsedTime: 2400.1 seconds RetCode: None Status: TIMEOUT CheckDir: escape.Rcheck Warnings: NA