Package: escape Version: 2.2.4 Command: /Library/Frameworks/R.framework/Resources/bin/R CMD check --install=check:escape.install-out.txt --library=/Library/Frameworks/R.framework/Resources/library --no-vignettes --timings escape_2.2.4.tar.gz StartedAt: 2025-04-01 02:47:28 -0400 (Tue, 01 Apr 2025) EndedAt: 2025-04-01 03:27:29 -0400 (Tue, 01 Apr 2025) EllapsedTime: 2400.7 seconds RetCode: None Status: TIMEOUT CheckDir: escape.Rcheck Warnings: NA