Package: escape Version: 2.2.4 Command: rm -rf escape.buildbin-libdir && mkdir escape.buildbin-libdir && /Users/biocbuild/BBS/utils/build-universal.sh escape_2.2.4.tar.gz /Library/Frameworks/R.framework/Resources/bin/R escape.buildbin-libdir StartedAt: 2025-04-01 11:51:19 -0400 (Tue, 01 Apr 2025) EndedAt: 2025-04-01 11:52:50 -0400 (Tue, 01 Apr 2025) EllapsedTime: 91.5 seconds RetCode: 0 Status: OK PackageFile: escape_2.2.4.tgz PackageFileSize: 1.757 MiB