Package: erma Version: 1.22.0 Command: /home/biocbuild/R/R/bin/R CMD INSTALL erma StartedAt: 2025-03-31 20:43:07 -0000 (Mon, 31 Mar 2025) EndedAt: 2025-03-31 20:44:09 -0000 (Mon, 31 Mar 2025) EllapsedTime: 61.8 seconds RetCode: 0 Status: OK