Package: erma Version: 1.22.0 Command: /home/biocbuild/R/R/bin/R CMD check --install=check:erma.install-out.txt --library=/home/biocbuild/R/R/site-library --no-vignettes --timings erma_1.22.0.tar.gz StartedAt: 2025-04-01 06:20:33 -0000 (Tue, 01 Apr 2025) EndedAt: 2025-04-01 06:27:41 -0000 (Tue, 01 Apr 2025) EllapsedTime: 427.6 seconds RetCode: 0 Status: OK CheckDir: erma.Rcheck Warnings: 0