Package: erma Version: 1.22.0 Command: /Library/Frameworks/R.framework/Resources/bin/R CMD check --install=check:erma.install-out.txt --library=/Library/Frameworks/R.framework/Resources/library --no-vignettes --timings erma_1.22.0.tar.gz StartedAt: 2025-04-01 02:46:35 -0400 (Tue, 01 Apr 2025) EndedAt: 2025-04-01 02:59:45 -0400 (Tue, 01 Apr 2025) EllapsedTime: 790.7 seconds RetCode: 0 Status: OK CheckDir: erma.Rcheck Warnings: 0