Package: erma Version: 1.22.0 Command: /Library/Frameworks/R.framework/Resources/bin/R CMD build --keep-empty-dirs --no-resave-data erma StartedAt: 2025-03-31 18:37:20 -0400 (Mon, 31 Mar 2025) EndedAt: 2025-03-31 18:40:39 -0400 (Mon, 31 Mar 2025) EllapsedTime: 198.6 seconds RetCode: 0 Status: OK PackageFile: erma_1.22.0.tar.gz PackageFileSize: 198.1 MiB